BEGIN:VCALENDAR
VERSION:2.0
PRODID:-//ChamberMaster//Event Calendar 2.0//EN
METHOD:PUBLISH
X-PUBLISHED-TTL:P3D
REFRESH-INTERVAL:P3D
CALSCALE:GREGORIAN
BEGIN:VEVENT
DTSTART:20141120T170000Z
DTEND:20141120T220000Z
X-MICROSOFT-CDO-ALLDAYEVENT:FALSE
SUMMARY:Workshop: NAFTA
DESCRIPTION:Pacific Customs Brokers is offering a workshop on the North American Free Trade Agreement (NAFTA) for both Canadian and U.S. companies. We will assist you in understanding your responsibilities under NAFTA\, and will provide you with practical tools for completing certification of your products. In addition\, we will provide instruction on the Rules of Origin and classification of your goods under the Harmonized Tariff Schedule. This session will be of interest to: business owners\, operations managers\, controllers\, purchasers\, logistics supervisors/coordinators and production managers importing and exporting within North America. This is a great opportunity for businesses with newly hired logistics staff to receive cost-effective training and/or refresh their awareness. \n\n \n\n5 points towards maintenance of the CCS/CTCS designation(s) will be awarded by the Canadian Society of Customs Brokers (CSCB).\n\n \n\nThis event has been approved by the NCBFAA Educational Institute (NEI) for 5 points towards maintenance of the U.S. CCS designation.
X-ALT-DESC;FMTTYPE=text/html:<div>Pacific Customs Brokers is offering a workshop on the North American Free Trade Agreement (NAFTA) for both Canadian and U.S. companies. We will assist you in understanding your responsibilities under NAFTA\, and will provide you with practical tools for completing certification of your products. In addition\, we will provide instruction on the Rules of Origin and classification of your goods under the Harmonized Tariff Schedule. This session will be of interest to: business owners\, operations managers\, controllers\, purchasers\, logistics supervisors/coordinators and production managers importing and exporting within North America. This is a great opportunity for businesses with newly hired logistics staff to receive cost-effective training and/or refresh their awareness.&nbsp\;</div>\n\n<div>&nbsp\;</div>\n\n<div>5 points towards maintenance of the CCS/CTCS designation(s) will be awarded by the Canadian Society of Customs Brokers (CSCB).</div>\n\n<div>&nbsp\;</div>\n\n<div>This event has been approved by the NCBFAA Educational Institute (NEI) for 5 points towards maintenance of the U.S. CCS designation.</div>\n
LOCATION:Pacific Customs Brokers - Seminar Room 101-17637 1st Avenue\, Surrey\, BC
UID:e.749.2719
SEQUENCE:3
DTSTAMP:20260425T140050Z
URL:https://business.swrbot.com/events/details/workshop-nafta-11-20-2014-2719
END:VEVENT

END:VCALENDAR
