BEGIN:VCALENDAR
VERSION:2.0
PRODID:-//ChamberMaster//Event Calendar 2.0//EN
METHOD:PUBLISH
X-PUBLISHED-TTL:P3D
REFRESH-INTERVAL:P3D
CALSCALE:GREGORIAN
BEGIN:VEVENT
DTSTART:20190619T190000Z
DTEND:20190619T200000Z
X-MICROSOFT-CDO-ALLDAYEVENT:FALSE
SUMMARY:You be the Judge! Key Employment Law Principles for Employers
DESCRIPTION:Litigation is uncertain. And Judges can get it wrong. And a refresher on some key employment law principles never hurts. In this webinar\, Stuart Ducoffe will explore several recent cases and let you be the Judge. Join this educational webinar on Wednesday June 19\, 2019 from 12:00pm - 1:00pm ET as Stuart Ducoffe\, HR and Employment Lawyer and Founder of e2r  explores several recent cases and let you be the Judge. Was it just cause? Can you discipline an employee for off-duty conduct? What triggers a duty to investigate an allegation of discrimination or harassment? Following your 'ruling' in each case\, we will summarize the main principles that led the real judges to come to their conclusion(s).
X-ALT-DESC;FMTTYPE=text/html:Litigation is uncertain. And Judges can get it wrong. And a refresher on some key employment law principles never hurts. In this webinar\, Stuart Ducoffe will explore several recent cases and let you be the Judge. Join this educational webinar on Wednesday June 19\, 2019 from 12:00pm - 1:00pm ET as Stuart Ducoffe\, HR and Employment Lawyer and Founder of e2r&reg\; explores several recent cases and let you be the Judge. Was it just cause? Can you discipline an employee for off-duty conduct? What triggers a duty to investigate an allegation of discrimination or harassment? Following your &lsquo\;ruling&rsquo\; in each case\, we will summarize the main principles that led the real judges to come to their conclusion(s).
LOCATION:Virtual Webinar
UID:e.749.10479
SEQUENCE:3
DTSTAMP:20260420T190444Z
URL:https://business.swrbot.com/events/details/you-be-the-judge-key-employment-law-principles-for-employers-06-19-2019-10479
END:VEVENT

END:VCALENDAR
