BEGIN:VCALENDAR
VERSION:2.0
PRODID:-//ChamberMaster//Event Calendar 2.0//EN
METHOD:PUBLISH
X-PUBLISHED-TTL:P3D
REFRESH-INTERVAL:P3D
CALSCALE:GREGORIAN
BEGIN:VEVENT
DTSTART:20140504T020000Z
DTEND:20140504T080000Z
X-MICROSOFT-CDO-ALLDAYEVENT:FALSE
SUMMARY:Zajac Nights - A Year in one Night
DESCRIPTION:Guests will enjoy all the food and drinks they desire as they explore the Vancouver Club under our unique party theme: "A Year in a Night." Guests can watch the ball drop every hour on the hour in the New Year's Eve Ballroom\, or grab their special someone and run off to the Valentine's Day Lounge and enjoy the chocolate fountain. After a couple drinks\, you can let out your inner Irishman and climb up to the St. Paddy's Day room on the third floor. This party will have 6 different holidays in 6 different rooms\, + a rooftop Mardi Gras experience for our VIP guests.\n\nYou can see our video from last year's event\, and further details on this year's gala including ticket purchasing on our website http://zajacnights.com.\n\nAll proceeds raised will benefit Zajac Ranch for Children\, a medical summer camp for children with chronic\, life threatening and/or debilitating conditions. Further information on Zajac Ranch can be found at www.zajacranch.com.
X-ALT-DESC;FMTTYPE=text/html:<p class="MsoPlainText"><span style="font-size: 10pt">Guests will enjoy all the food and drinks they desire as they explore the Vancouver Club under our unique party theme: &ldquo\;A Year in a Night.&rdquo\; Guests can watch the ball drop every hour on the hour in the New Year&rsquo\;s Eve Ballroom\, or grab their special someone and run off to the Valentine&rsquo\;s Day Lounge and enjoy the chocolate fountain. After a couple drinks\, you can let out your inner Irishman and climb up to the St. Paddy&rsquo\;s Day room on the third floor. This party will have 6 different holidays in 6 different rooms\, </span><span style="font-size: 10pt">+ a rooftop Mardi Gras experience for our VIP guests.<o:p></o:p></span></p>\n\n<p class="MsoPlainText"><span style="font-size: 10pt">You can see our video from last year&rsquo\;s event\, and further details on this year&rsquo\;s gala including ticket purchasing on our website <a href="http://zajacnights.com/"><font color="#800080">http://zajacnights.com</font></a>.<o:p></o:p></span></p>\n\n<p class="MsoPlainText"><span style="font-size: 10pt">All proceeds raised will benefit Zajac Ranch for Children\, a medical summer camp for children with chronic\, life threatening and/or debilitating conditions. Further information on Zajac Ranch can be found at <a href="http://www.zajacranch.com/"><font color="#0000ff">www.zajacranch.com</font></a>.<o:p></o:p></span></p>\n
LOCATION:The Vancouver Club 915 West Hastings Street Vancouver BC
UID:e.749.2641
SEQUENCE:3
DTSTAMP:20260425T213518Z
URL:https://business.swrbot.com/events/details/zajac-nights-a-year-in-one-night-05-03-2014-2641
END:VEVENT

END:VCALENDAR
